BEGIN:VCALENDAR
VERSION:2.0
PRODID:-//Nätverk Åker - ECPv6.15.20//NONSGML v1.0//EN
CALSCALE:GREGORIAN
METHOD:PUBLISH
X-WR-CALNAME:Nätverk Åker
X-ORIGINAL-URL:https://natverkaker.se
X-WR-CALDESC:Händelser för Nätverk Åker
REFRESH-INTERVAL;VALUE=DURATION:PT1H
X-Robots-Tag:noindex
X-PUBLISHED-TTL:PT1H
BEGIN:VTIMEZONE
TZID:Europe/Stockholm
BEGIN:DAYLIGHT
TZOFFSETFROM:+0100
TZOFFSETTO:+0200
TZNAME:CEST
DTSTART:20250330T010000
END:DAYLIGHT
BEGIN:STANDARD
TZOFFSETFROM:+0200
TZOFFSETTO:+0100
TZNAME:CET
DTSTART:20251026T010000
END:STANDARD
BEGIN:DAYLIGHT
TZOFFSETFROM:+0100
TZOFFSETTO:+0200
TZNAME:CEST
DTSTART:20260329T010000
END:DAYLIGHT
BEGIN:STANDARD
TZOFFSETFROM:+0200
TZOFFSETTO:+0100
TZNAME:CET
DTSTART:20261025T010000
END:STANDARD
BEGIN:DAYLIGHT
TZOFFSETFROM:+0100
TZOFFSETTO:+0200
TZNAME:CEST
DTSTART:20270328T010000
END:DAYLIGHT
BEGIN:STANDARD
TZOFFSETFROM:+0200
TZOFFSETTO:+0100
TZNAME:CET
DTSTART:20271031T010000
END:STANDARD
END:VTIMEZONE
BEGIN:VEVENT
DTSTART;TZID=Europe/Stockholm:20260619T130000
DTEND;TZID=Europe/Stockholm:20260619T150000
DTSTAMP:20260420T152756
CREATED:20260119T141332Z
LAST-MODIFIED:20260216T121059Z
UID:3188-1781874000-1781881200@natverkaker.se
SUMMARY:19/6 Midsommarfirande i Engelska Parken
DESCRIPTION:Vi dansar in sommaren!Start kl. 13.00 då vi klär stången.Resning av stången och dans kl. 14.00.Tipspromenad\, trubadur och lekar för små och stora.Avslutning ca 15.00.Ta gärna med blommor till stången.Alla är välkomna!!
URL:https://natverkaker.se/event/midsommarfirande-i-engelska-parken/
LOCATION:Engelska parken\, Engelska parken\, Åkers styckebruk\, Åkers styckebruk
CATEGORIES:Barn,Dans,Firande,Midsommar
ATTACH;FMTTYPE=image/png:https://natverkaker.se/wp-content/uploads/2026/01/4.-Midsommar.png
ORGANIZER;CN="%C3%85kers Hembygdsf%C3%B6rening":MAILTO:info@akershembygd.se
END:VEVENT
END:VCALENDAR