BEGIN:VCALENDAR
VERSION:2.0
PRODID:-//Nätverk Åker - ECPv6.15.20//NONSGML v1.0//EN
CALSCALE:GREGORIAN
METHOD:PUBLISH
X-WR-CALNAME:Nätverk Åker
X-ORIGINAL-URL:https://natverkaker.se
X-WR-CALDESC:Händelser för Nätverk Åker
REFRESH-INTERVAL;VALUE=DURATION:PT1H
X-Robots-Tag:noindex
X-PUBLISHED-TTL:PT1H
BEGIN:VTIMEZONE
TZID:Europe/Stockholm
BEGIN:DAYLIGHT
TZOFFSETFROM:+0100
TZOFFSETTO:+0200
TZNAME:CEST
DTSTART:20250330T010000
END:DAYLIGHT
BEGIN:STANDARD
TZOFFSETFROM:+0200
TZOFFSETTO:+0100
TZNAME:CET
DTSTART:20251026T010000
END:STANDARD
BEGIN:DAYLIGHT
TZOFFSETFROM:+0100
TZOFFSETTO:+0200
TZNAME:CEST
DTSTART:20260329T010000
END:DAYLIGHT
BEGIN:STANDARD
TZOFFSETFROM:+0200
TZOFFSETTO:+0100
TZNAME:CET
DTSTART:20261025T010000
END:STANDARD
BEGIN:DAYLIGHT
TZOFFSETFROM:+0100
TZOFFSETTO:+0200
TZNAME:CEST
DTSTART:20270328T010000
END:DAYLIGHT
BEGIN:STANDARD
TZOFFSETFROM:+0200
TZOFFSETTO:+0100
TZNAME:CET
DTSTART:20271031T010000
END:STANDARD
END:VTIMEZONE
BEGIN:VEVENT
DTSTART;TZID=Europe/Stockholm:20260418T110000
DTEND;TZID=Europe/Stockholm:20260418T140000
DTSTAMP:20260420T142715
CREATED:20260216T123506Z
LAST-MODIFIED:20260216T123510Z
UID:3252-1776510000-1776520800@natverkaker.se
SUMMARY:18/4 Vandring längs kanaler och banvallar
DESCRIPTION:En råvara\, en energikälla\, tillgång på bränsle och en infrastruktur för transporter. Det var förutsättningarna för att driva ett bruk. Allt detta fanns i Åkers bergslag: järnmalmv i berget\, vattenkraft i sjöar och vattendrag\, kol och timmer ur skogen och transportvägar på sjöarna – senare även järnväg. En vandring längs kanaler och fördämningsvallar som säkrade vattenkraften och längs den järnväg som under tre decennier användes för transport av järnmalm\, torv och ved. \n\n\n\nMer info kommer närmare.
URL:https://natverkaker.se/event/18-4-vandring-langs-kanaler-och-banvallar/
LOCATION:Åkers bergslag
ATTACH;FMTTYPE=image/jpeg:https://natverkaker.se/wp-content/uploads/2025/02/Natverk-Aker-Evenemang-2025-1000x700-1-1.jpg
ORGANIZER;CN="%C3%85kers Hembygdsf%C3%B6rening":MAILTO:info@akershembygd.se
END:VEVENT
BEGIN:VEVENT
DTSTART;TZID=Europe/Stockholm:20260428T180000
DTEND;TZID=Europe/Stockholm:20260428T203000
DTSTAMP:20260420T142715
CREATED:20260316T124033Z
LAST-MODIFIED:20260413T083743Z
UID:3347-1777399200-1777408200@natverkaker.se
SUMMARY:28/4 VALBAR
DESCRIPTION:Den 28 april arrangerar Nätverk Åker en kväll där politiska partier får möjlighet att presentera sina tankar och planer för Strängnäs kommun med särskilt fokus på Åker inför kommande mandatperiod. \n\n\n\nSyftet med kvällen är att skapa en öppen dialog mellan Åkersborna och politiska företrädare. Besökare får möjlighet att höra hur olika partier ser på utvecklingen i kommunen och vilka idéer de har för Åker framöver. \n\n\n\nUnder kvällen får de deltagande partierna kort presentera sina tankar och prioriteringar. Därefter ges möjlighet till frågor från publiken samt samtal och mingel med politikerna. \n\n\n\nKvällen innehåller bland annat: \n\n\n\n\nkorta presentationer från de deltagande partierna\n\n\n\nfrågestund där publiken kan ställa frågor\n\n\n\nmöjlighet att prata direkt med politikerna under mingel\n\n\n\n\nMer information om vilka partier som deltar kommer att publiceras längre fram.😊
URL:https://natverkaker.se/event/28-4-valbar/
LOCATION:Mötesplats Åker\, Folkets Hus\, Torget 1\, Åkers styckebruk
ATTACH;FMTTYPE=image/png:https://natverkaker.se/wp-content/uploads/2026/03/resized_image.png
ORGANIZER;CN="N%C3%A4tverk %C3%85ker":MAILTO:kontakt@natverkaker.se
END:VEVENT
BEGIN:VEVENT
DTSTART;TZID=Europe/Stockholm:20260430T193000
DTEND;TZID=Europe/Stockholm:20260430T213000
DTSTAMP:20260420T142715
CREATED:20260119T140159Z
LAST-MODIFIED:20260216T121147Z
UID:3182-1777577400-1777584600@natverkaker.se
SUMMARY:30/4 Valborgsfirande
DESCRIPTION:Start vid Folkets Hus kl. 19.30:Kyrkokören sjungerInköp av facklorkl. 20.00 Fackeltåget avgår \n\n\n\nEngelska parken kl. 20.30:Majbålet tändsVårtal och Vårdikter
URL:https://natverkaker.se/event/valborgsfirande/
LOCATION:Folkets hus\, Torget 1\, Åkers Styckebruk\, 647 52\, Sverige
CATEGORIES:Barn,Firande
ATTACH;FMTTYPE=image/png:https://natverkaker.se/wp-content/uploads/2026/01/3.-Valborg.png
ORGANIZER;CN="%C3%85kers Hembygdsf%C3%B6rening":MAILTO:info@akershembygd.se
END:VEVENT
BEGIN:VEVENT
DTSTART;TZID=Europe/Stockholm:20260509T090000
DTEND;TZID=Europe/Stockholm:20260509T130000
DTSTAMP:20260420T142715
CREATED:20260216T123843Z
LAST-MODIFIED:20260216T123846Z
UID:3256-1778317200-1778331600@natverkaker.se
SUMMARY:9/5 Städdag på Museet
DESCRIPTION:Museet städas och görs fint inför säsongen. Eventuellt även onsdag 13 maj kl. 09.00.Fika serveras.Inte medlem? Vill du lära känna föreningsmedlemmar och vårt hembygdsmuseum?Välkommen! Anmälan till info@akershembygd.se
URL:https://natverkaker.se/event/9-5-staddag-pa-museet/
LOCATION:Bruksmuseet\, Bruksallén 17\, Åkers styckebruk\, 647 51\, Sverige
CATEGORIES:Hembygd Åker,Museet
ATTACH;FMTTYPE=image/jpeg:https://natverkaker.se/wp-content/uploads/2025/02/Natverk-Aker-Evenemang-2025-1000x700-2.jpg
ORGANIZER;CN="%C3%85kers Hembygdsf%C3%B6rening":MAILTO:info@akershembygd.se
END:VEVENT
BEGIN:VEVENT
DTSTART;TZID=Europe/Stockholm:20260523T000000
DTEND;TZID=Europe/Stockholm:20260523T235959
DTSTAMP:20260420T142715
CREATED:20260409T180317Z
LAST-MODIFIED:20260419T162836Z
UID:3556-1779494400-1779580799@natverkaker.se
SUMMARY:Åkerdagen 2026 med Folkets Park
DESCRIPTION:Välkommen till en dag fylld av upplevelser i Åkers styckebruk! \n\n\n\nUnder dagen bjuder hela Åker in till aktivitet där vi tillsammans lyfter fram allt det fantastiska vårt ”hemma” har att erbjuda – från natur och kultur till livfulla företag och aktivt föreningsliv. \n\n\n\nUpplev Museets dag\, spännande aktiviteter för både stora och små\, öppet hus hos lokala företag och föreningar\, loppisfynd\, historia\, konst och till och med paddling – här finns något för alla! \n\n\n\nOch som grädden på moset fortsätter kvällen med den efterlängtade Åkerfesten – Folkets Park!En kväll för hela familjen med liveband\, god mat och en nostalgisk folkparksstämning\, du sent kommer att glömma.Som om inte det vore nog fortsätter Efterfesten sedan på Karas Restaurang & Pizzeria med specialmeny och goda drinkar. Det blir en dag att minnas – och du är varmt välkommen! \n\n\n\n\nKLICKA HÄR FÖR ATT LÄSA MER OM DAGEN   >>
URL:https://natverkaker.se/event/akerdagen-2026-med-folkets-park/
LOCATION:Åkers styckebruk\, Åkers styckebruk
CATEGORIES:Barn,Dans,Evenemang,Hembygd Åker,Museet,Musik
ATTACH;FMTTYPE=image/png:https://natverkaker.se/wp-content/uploads/2026/04/Akerdagen-2026-1000x700-1.png
ORGANIZER;CN="N%C3%A4tverk %C3%85ker":MAILTO:kontakt@natverkaker.se
END:VEVENT
BEGIN:VEVENT
DTSTART;TZID=Europe/Stockholm:20260608T180000
DTEND;TZID=Europe/Stockholm:20260608T193000
DTSTAMP:20260420T142715
CREATED:20260216T124246Z
LAST-MODIFIED:20260216T124249Z
UID:3258-1780941600-1780947000@natverkaker.se
SUMMARY:8/6 Öppen kurs om Museet och Bruksarkivet
DESCRIPTION:Vi visar Museet och Arkivet för dig som vill bli sommarvärd för några dagar på museet.Anmälan och frågor skickas till info@akershembygd.se
URL:https://natverkaker.se/event/8-6-oppen-kurs-om-museet-och-bruksarkivet/
LOCATION:Bruksmuseet\, Bruksallén 17\, Åkers styckebruk\, 647 51\, Sverige
CATEGORIES:Hembygd Åker,Museet,Utbildning/Kurser
ATTACH;FMTTYPE=image/jpeg:https://natverkaker.se/wp-content/uploads/2025/02/Natverk-Aker-Evenemang-2025-1000x700-3.jpg
ORGANIZER;CN="%C3%85kers Hembygdsf%C3%B6rening":MAILTO:info@akershembygd.se
END:VEVENT
BEGIN:VEVENT
DTSTART;TZID=Europe/Stockholm:20260619T130000
DTEND;TZID=Europe/Stockholm:20260619T150000
DTSTAMP:20260420T142715
CREATED:20260119T141332Z
LAST-MODIFIED:20260216T121059Z
UID:3188-1781874000-1781881200@natverkaker.se
SUMMARY:19/6 Midsommarfirande i Engelska Parken
DESCRIPTION:Vi dansar in sommaren!Start kl. 13.00 då vi klär stången.Resning av stången och dans kl. 14.00.Tipspromenad\, trubadur och lekar för små och stora.Avslutning ca 15.00.Ta gärna med blommor till stången.Alla är välkomna!!
URL:https://natverkaker.se/event/midsommarfirande-i-engelska-parken/
LOCATION:Engelska parken\, Engelska parken\, Åkers styckebruk\, Åkers styckebruk
CATEGORIES:Barn,Dans,Firande,Midsommar
ATTACH;FMTTYPE=image/png:https://natverkaker.se/wp-content/uploads/2026/01/4.-Midsommar.png
ORGANIZER;CN="%C3%85kers Hembygdsf%C3%B6rening":MAILTO:info@akershembygd.se
END:VEVENT
BEGIN:VEVENT
DTSTART;TZID=Europe/Stockholm:20261024T110000
DTEND;TZID=Europe/Stockholm:20261024T140000
DTSTAMP:20260420T142715
CREATED:20260119T135823Z
LAST-MODIFIED:20260216T121050Z
UID:3179-1792839600-1792850400@natverkaker.se
SUMMARY:24/10 Åkers Höstmarknad
DESCRIPTION:Åkers Höstmarknad är en mindre\, gemytlig marknad som varje år lockar omkring 700–1000 besökare med god köpkraft. \n\n\n\nMarknaden samlar lokala knallar och långväga utställare\, vilket ger ett varierat och intressant utbud för besökarna. Här finns både hantverk\, produkter och smaker att upptäcka. \n\n\n\nSom besökare kan man förvänta sig god stämning\, mat och fika\, värmande eldar samt barnaktiviteter som gör marknaden trivsam för hela familjen. \n\n\n\nÅkers Höstmarknad är en lagom stor marknad där det är lätt att stanna kvar\, umgås och handla i lugn och ro. \n\n\n\n\nIntresseanmälan Knallar Här >>>
URL:https://natverkaker.se/event/akers-hostmarknad/
LOCATION:Skämbyäng\, Skördevägen\, Åkers styckebruk
CATEGORIES:Barn,Evenemang,Marknad
ATTACH;FMTTYPE=image/png:https://natverkaker.se/wp-content/uploads/2026/01/6.-Hostmarknad.png
ORGANIZER;CN="N%C3%A4tverk %C3%85ker":MAILTO:kontakt@natverkaker.se
END:VEVENT
BEGIN:VEVENT
DTSTART;TZID=Europe/Stockholm:20261231T110000
DTEND;TZID=Europe/Stockholm:20261231T140000
DTSTAMP:20260420T142715
CREATED:20250127T135540Z
LAST-MODIFIED:20260216T121039Z
UID:1864-1798714800-1798725600@natverkaker.se
SUMMARY:31/12 Nyårsfest i ishallen
DESCRIPTION:Varmt välkommen till 2026 års upplaga av Nyårsfesten i Åker!Firar in det nya året tillsammans med familjen\, vänner och grannar. Vad sägs om skridskodisko\, knallar\, pyssel\, ansiktsmålning\, fiskdamm\, foodtruck\, kafé med mera. Alla aktiviteter är kostnadsfria och Fritidsbanken är på plats för att låna ut skridskor och hjälmar!Vi ses i Bruksvallens ishall på nyårsafton! \n\n\n\n\nSe bilder från 2024 här   >>\n\n\n\nSe Facebook-event här   >>\n\n\n\nIntresseanmälan att medverka >>\n\n\n\n\n\n\n\n\nTACK FÖR ATT NI GÖR DETTA MÖJLIGT!
URL:https://natverkaker.se/event/nyarsfest-i-ishallen/
LOCATION:Ishallen\, Bruksvallen\, Åkers styckebruk\, 647 52\, Sweden
CATEGORIES:Barn,Evenemang,Firande,Föräldrar,Marknad,Nyår
ATTACH;FMTTYPE=image/png:https://natverkaker.se/wp-content/uploads/2025/01/7.-Nyarsfesten.png
ORGANIZER;CN="N%C3%A4tverk %C3%85ker":MAILTO:kontakt@natverkaker.se
END:VEVENT
END:VCALENDAR